BEGIN:VCALENDAR
VERSION:2.0
PRODID:Spatie calendar-links
BEGIN:VEVENT
UID:3e19a9721553a97200deb6ed0b4eea02
SUMMARY:Venepuncture Training (Paramedics)
DTSTAMP:20221209T090000Z
DTSTART:20221209T090000Z
DTEND:20221209T170000Z
DESCRIPTION:For details\, link here: https://app.essexequip.co.uk/events/venepuncture-training-paramedics-december-2022
LOCATION:Essex EQUIP Ltd\, 1 Freebournes Court\, Newland Street\, Witham\, Essex\,  CM8 2BL
END:VEVENT
END:VCALENDAR