BEGIN:VCALENDAR
VERSION:2.0
PRODID:Spatie calendar-links
BEGIN:VEVENT
UID:f07cbb46d1e21c13d9a97aea14b8eb82
SUMMARY:Venepuncture Training
DTSTAMP:20260609T083000Z
DTSTART:20260609T083000Z
DTEND:20260609T160000Z
DESCRIPTION:For details\, link here: https://app.essexequip.co.uk/events/venepuncture-training-28
LOCATION:EQUIP Ltd\, Arise Innovation Hub\, Alan Cherry Drive\, Chelmsford\, Essex\, CM1 1QT
END:VEVENT
END:VCALENDAR