BEGIN:VCALENDAR
VERSION:2.0
PRODID:Spatie calendar-links
BEGIN:VEVENT
UID:d7c300c09e0e38532f6bb798c9a6bc04
SUMMARY:Two Day Contraception Appreciation Course
DTSTAMP:20231129T093000Z
DTSTART:20231129T093000Z
DTEND:20231129T160000Z
DESCRIPTION:For details\, link here: https://app.essexequip.co.uk/events/two-day-contraception-appreciation-course-2
LOCATION:Online
END:VEVENT
END:VCALENDAR