BEGIN:VCALENDAR
VERSION:2.0
PRODID:Spatie calendar-links
BEGIN:VEVENT
UID:e5f433d2ce36ab2499315f999c772190
SUMMARY:Two Day Contraception Appreciation Course
DTSTAMP:20231128T093000Z
DTSTART:20231128T093000Z
DTEND:20231128T160000Z
DESCRIPTION:For details\, link here: https://app.essexequip.co.uk/events/two-day-contraception-appreciation-course-2
LOCATION:Online
END:VEVENT
END:VCALENDAR