BEGIN:VCALENDAR
VERSION:2.0
PRODID:Spatie calendar-links
BEGIN:VEVENT
UID:8b5d4946ce0bf1c1d0f796274d98a78f
SUMMARY:Red Flags for Receptionists - Online
DTSTAMP:20240229T093000Z
DTSTART:20240229T093000Z
DTEND:20240229T123000Z
DESCRIPTION:For details\, link here: https://app.essexequip.co.uk/events/red-flags-for-receptionists-online-3
LOCATION:Online
END:VEVENT
END:VCALENDAR