BEGIN:VCALENDAR
VERSION:2.0
PRODID:Spatie calendar-links
BEGIN:VEVENT
UID:9abda4df00d2e77716eb201264f0656e
SUMMARY:Practice Finance Beyond the Basics - Online
DTSTAMP:20261104T093000Z
DTSTART:20261104T093000Z
DTEND:20261104T123000Z
DESCRIPTION:For details\, link here: https://app.essexequip.co.uk/events/practice-finance-beyond-the-basics-online-10-1
LOCATION:Online
END:VEVENT
END:VCALENDAR