BEGIN:VCALENDAR
VERSION:2.0
PRODID:Spatie calendar-links
BEGIN:VEVENT
UID:0374dc322ac60754ae8c9e2e9ef6cde7
SUMMARY:In-House - Resilience\, Conflict and Communication Resolution Training
DTSTAMP:20210518T123000Z
DTSTART:20210518T123000Z
DTEND:20210518T153000Z
DESCRIPTION:For details\, link here: https://app.essexequip.co.uk/events/nuffield-house-surgery-house-resilience-conflict-resolution-training
LOCATION:Online
END:VEVENT
END:VCALENDAR