BEGIN:VCALENDAR
VERSION:2.0
PRODID:Spatie calendar-links
BEGIN:VEVENT
UID:0ee0b251d0d915f3a25aadec8e96ccdf
SUMMARY:Menopause Updates
DTSTAMP:20261105T133000Z
DTSTART:20261105T133000Z
DTEND:20261105T163000Z
DESCRIPTION:For details\, link here: https://app.essexequip.co.uk/events/menopause-updates
LOCATION:Online
END:VEVENT
END:VCALENDAR