BEGIN:VCALENDAR
VERSION:2.0
PRODID:Spatie calendar-links
BEGIN:VEVENT
UID:e801568b0928185ee7d72e46e5dfb04d
SUMMARY:Managing Difficult Patient Conversations with Resilience
DTSTAMP:20260602T123000Z
DTSTART:20260602T123000Z
DTEND:20260602T153000Z
DESCRIPTION:For details\, link here: https://app.essexequip.co.uk/events/managing-difficult-patient-conversations-with-resilience-3
LOCATION:Online
END:VEVENT
END:VCALENDAR