BEGIN:VCALENDAR
VERSION:2.0
PRODID:Spatie calendar-links
BEGIN:VEVENT
UID:f9a795cf91518fbc632377da10e144d4
SUMMARY:Introduction to Diabetes
DTSTAMP:20250423T083000Z
DTSTART:20250423T083000Z
DTEND:20250423T153000Z
DESCRIPTION:For details\, link here: https://app.essexequip.co.uk/events/introduction-to-diabetes-11
LOCATION:Online
END:VEVENT
END:VCALENDAR