BEGIN:VCALENDAR
VERSION:2.0
PRODID:Spatie calendar-links
BEGIN:VEVENT
UID:23f5b32a53ffba3aa5a9118b2021a2e4
SUMMARY:Introduction to COPD
DTSTAMP:20261016T083000Z
DTSTART:20261016T083000Z
DTEND:20261016T153000Z
DESCRIPTION:For details\, link here: https://app.essexequip.co.uk/events/introduction-to-copd
LOCATION:EQUIP Ltd\, Arise Innovation Hub\, Alan Cherry Drive\, Chelmsford\, Essex\, CM1 1QT
END:VEVENT
END:VCALENDAR