BEGIN:VCALENDAR
VERSION:2.0
PRODID:Spatie calendar-links
BEGIN:VEVENT
UID:f0669174442dd13209376bbb1265c55a
SUMMARY:Introduction to COPD - Essential Skills
DTSTAMP:20250415T080000Z
DTSTART:20250415T080000Z
DTEND:20250415T153000Z
DESCRIPTION:For details\, link here: https://app.essexequip.co.uk/events/introduction-to-copd-essential-skills-8
LOCATION:Essex EQUIP Ltd\, 1 Freebournes Court\, Newland Street\, Witham\, Essex\,  CM8 2BL
END:VEVENT
END:VCALENDAR