BEGIN:VCALENDAR
VERSION:2.0
PRODID:Spatie calendar-links
BEGIN:VEVENT
UID:bc72b0c9e7f6a03308cd569ff6888eec
SUMMARY:Introduction to COPD - Essential Skills
DTSTAMP:20251016T080000Z
DTSTART:20251016T080000Z
DTEND:20251016T153000Z
DESCRIPTION:For details\, link here: https://app.essexequip.co.uk/events/introduction-to-copd-essential-skills-7
LOCATION:Essex EQUIP Ltd\, 1 Freebournes Court\, Newland Street\, Witham\, Essex\,  CM8 2BL
END:VEVENT
END:VCALENDAR