BEGIN:VCALENDAR
VERSION:2.0
PRODID:Spatie calendar-links
BEGIN:VEVENT
UID:e223c407e67659e277f8cd9ecfcb1b70
SUMMARY:Introduction to Contraception and Reproductive Sexual Health
DTSTAMP:20251112T093000Z
DTSTART:20251112T093000Z
DTEND:20251112T163000Z
DESCRIPTION:For details\, link here: https://app.essexequip.co.uk/events/introduction-to-contraception-and-reproductive-sexual-health-5
LOCATION:Online
END:VEVENT
END:VCALENDAR