BEGIN:VCALENDAR
VERSION:2.0
PRODID:Spatie calendar-links
BEGIN:VEVENT
UID:6bcc0c45fe41440d72e52fd59974ef57
SUMMARY:Interpreting Spirometry Training
DTSTAMP:20181206T090000Z
DTSTART:20181206T090000Z
DTEND:20181206T163000Z
DESCRIPTION:For details\, link here: https://app.essexequip.co.uk/events/interpreting-spirometry-training
LOCATION:Essex EQUIP Ltd\, 1 Freebournes Court\, Newland Street\, Witham\, Essex\,  CM8 2BL
END:VEVENT
END:VCALENDAR