BEGIN:VCALENDAR
VERSION:2.0
PRODID:Spatie calendar-links
BEGIN:VEVENT
UID:b07b9752cbd19e60ee151953ad8479b1
SUMMARY:Employment Law: Appraisals
DTSTAMP:20240117T130000Z
DTSTART:20240117T130000Z
DTEND:20240117T170000Z
DESCRIPTION:For details\, link here: https://app.essexequip.co.uk/events/employment-law-appraisals
LOCATION:Church Street\, Tring\, Hertfordshire\, HP23 6BL
END:VEVENT
END:VCALENDAR