BEGIN:VCALENDAR
VERSION:2.0
PRODID:Spatie calendar-links
BEGIN:VEVENT
UID:c45ae2d1c1714fdab51063c727553a72
SUMMARY:ECG Interpretation Workshop
DTSTAMP:20250115T093000Z
DTSTART:20250115T093000Z
DTEND:20250115T170000Z
DESCRIPTION:For details\, link here: https://app.essexequip.co.uk/events/ecg-interpretation-workshop-new
LOCATION:Essex EQUIP Ltd\, 1 Freebournes Court\, Newland Street\, Witham\, Essex\,  CM8 2BL
END:VEVENT
END:VCALENDAR