BEGIN:VCALENDAR
VERSION:2.0
PRODID:Spatie calendar-links
BEGIN:VEVENT
UID:c0f3be55051c48c2b064ac0b5e9ccc61
SUMMARY:ECG Interpretation Workshop for practice nurses
DTSTAMP:20240214T093000Z
DTSTART:20240214T093000Z
DTEND:20240214T170000Z
DESCRIPTION:For details\, link here: https://app.essexequip.co.uk/events/ecg-interpretation-workshop-for-practice-nurses-2
LOCATION:Essex EQUIP Ltd\, 1 Freebournes Court\, Newland Street\, Witham\, Essex\,  CM8 2BL
END:VEVENT
END:VCALENDAR