BEGIN:VCALENDAR
VERSION:2.0
PRODID:Spatie calendar-links
BEGIN:VEVENT
UID:4ef30dfa1fb7b9c43e6fae0a50d16193
SUMMARY:Ear Care Course for HCAs
DTSTAMP:20230912T080000Z
DTSTART:20230912T080000Z
DTEND:20230912T160000Z
DESCRIPTION:For details\, link here: https://app.essexequip.co.uk/events/ear-care-course-for-hcas-2
LOCATION:Essex EQUIP Ltd\, 1 Freebournes Court\, Newland Street\, Witham\, Essex\,  CM8 2BL
END:VEVENT
END:VCALENDAR