BEGIN:VCALENDAR
VERSION:2.0
PRODID:Spatie calendar-links
BEGIN:VEVENT
UID:e05034263671f0b65ef7aa6638d02ee8
SUMMARY:Diabetes Update Online
DTSTAMP:20241105T093000Z
DTSTART:20241105T093000Z
DTEND:20241105T123000Z
DESCRIPTION:For details\, link here: https://app.essexequip.co.uk/events/diabetes-update-online-3
LOCATION:Online
END:VEVENT
END:VCALENDAR