BEGIN:VCALENDAR
VERSION:2.0
PRODID:Spatie calendar-links
BEGIN:VEVENT
UID:45c13d1c5aeaa006b05fd7d159ce7b60
SUMMARY:Cytology Update (September 2026)
DTSTAMP:20260910T083000Z
DTSTART:20260910T083000Z
DTEND:20260910T113000Z
DESCRIPTION:For details\, link here: https://app.essexequip.co.uk/events/cytology-update-september-2026
LOCATION:Online
END:VEVENT
END:VCALENDAR