BEGIN:VCALENDAR
VERSION:2.0
PRODID:Spatie calendar-links
BEGIN:VEVENT
UID:c029ed631e66ae66cf9e794ad4436892
SUMMARY:Cytology Assessor Training
DTSTAMP:20240615T140000Z
DTSTART:20240615T140000Z
DTEND:20240615T150000Z
DESCRIPTION:For details\, link here: https://app.essexequip.co.uk/events/cytology-assessor-training
LOCATION:Online
END:VEVENT
END:VCALENDAR