BEGIN:VCALENDAR
VERSION:2.0
PRODID:Spatie calendar-links
BEGIN:VEVENT
UID:b7de2e3967ac92e8654ee4316d34b428
SUMMARY:Chest Assessment
DTSTAMP:20240207T093000Z
DTSTART:20240207T093000Z
DTEND:20240207T170000Z
DESCRIPTION:For details\, link here: https://app.essexequip.co.uk/events/chest-assessment-for-practice-nurses
LOCATION:Essex EQUIP Ltd\, 1 Freebournes Court\, Newland Street\, Witham\, Essex\,  CM8 2BL
END:VEVENT
END:VCALENDAR