BEGIN:VCALENDAR
VERSION:2.0
PRODID:Spatie calendar-links
BEGIN:VEVENT
UID:dd9e87dd06af94e75d3850c076f29950
SUMMARY:Caldicott Guardian - Online
DTSTAMP:20260429T083000Z
DTSTART:20260429T083000Z
DTEND:20260429T113000Z
DESCRIPTION:For details\, link here: https://app.essexequip.co.uk/events/caldicott-guardian-online-4
LOCATION:Online
END:VEVENT
END:VCALENDAR