BEGIN:VCALENDAR
VERSION:2.0
PRODID:Spatie calendar-links
BEGIN:VEVENT
UID:2b4c9b8cace38f594914b602c65f134d
SUMMARY:Blood Tests and Their Meanings
DTSTAMP:20260923T090000Z
DTSTART:20260923T090000Z
DTEND:20260923T120000Z
DESCRIPTION:For details\, link here: https://app.essexequip.co.uk/events/blood-tests-and-their-meanings-4
LOCATION:Online
END:VEVENT
END:VCALENDAR