BEGIN:VCALENDAR
VERSION:2.0
PRODID:Spatie calendar-links
BEGIN:VEVENT
UID:9c32808bae9f53703b2c4cfe30df5061
SUMMARY:Blood Tests and Their Meanings
DTSTAMP:20231004T093000Z
DTSTART:20231004T093000Z
DTEND:20231004T120000Z
DESCRIPTION:For details\, link here: https://app.essexequip.co.uk/events/blood-tests-and-their-meanings-2
LOCATION:Online
END:VEVENT
END:VCALENDAR